BEGIN:VCALENDAR
VERSION:2.0
PRODID:-//Beyond the Burn Foundation - ECPv6.12.0.1//NONSGML v1.0//EN
CALSCALE:GREGORIAN
METHOD:PUBLISH
X-WR-CALNAME:Beyond the Burn Foundation
X-ORIGINAL-URL:https://sonsoftheflag.org
X-WR-CALDESC:Events for Beyond the Burn Foundation
REFRESH-INTERVAL;VALUE=DURATION:PT1H
X-Robots-Tag:noindex
X-PUBLISHED-TTL:PT1H
BEGIN:VTIMEZONE
TZID:UTC
BEGIN:STANDARD
TZOFFSETFROM:+0000
TZOFFSETTO:+0000
TZNAME:UTC
DTSTART:20240101T000000
END:STANDARD
END:VTIMEZONE
BEGIN:VEVENT
DTSTART;TZID=UTC:20240823T080000
DTEND;TZID=UTC:20240823T170000
DTSTAMP:20260421T080522
CREATED:20240227T001841Z
LAST-MODIFIED:20240227T001841Z
UID:3219-1724400000-1724432400@sonsoftheflag.org
SUMMARY:RAD-Rides Clay Shoot 2024
DESCRIPTION:August 23\, 2024 the 5th Annual RAD 3rd Degree Clay Shoot at Texas G Ranch benefiting Sons of the Flag. Revolutionizing Burn Care For AMERICANS\, Sons of the Flag provides surgical programs\, research and development funding\, burn fellowships & education\, and direct burn survivor support.
URL:https://sonsoftheflag.org/sotf-event/rad-rides-clay-shoot-2024/
LOCATION:Texas Gun Ranch\, 15950 State Hwy 205\, Terrell\, TX\, 75160\, United States
ATTACH;FMTTYPE=image/jpeg:https://sonsoftheflag.org/file/2024/02/rad-rides-clay-shoot-2.jpg
END:VEVENT
END:VCALENDAR