BEGIN:VCALENDAR
VERSION:2.0
PRODID:-//Beyond the Burn Foundation - ECPv6.12.0.1//NONSGML v1.0//EN
CALSCALE:GREGORIAN
METHOD:PUBLISH
X-WR-CALNAME:Beyond the Burn Foundation
X-ORIGINAL-URL:https://sonsoftheflag.org
X-WR-CALDESC:Events for Beyond the Burn Foundation
REFRESH-INTERVAL;VALUE=DURATION:PT1H
X-Robots-Tag:noindex
X-PUBLISHED-TTL:PT1H
BEGIN:VTIMEZONE
TZID:UTC
BEGIN:STANDARD
TZOFFSETFROM:+0000
TZOFFSETTO:+0000
TZNAME:UTC
DTSTART:20220101T000000
END:STANDARD
END:VTIMEZONE
BEGIN:VEVENT
DTSTART;TZID=UTC:20220731T170000
DTEND;TZID=UTC:20220731T220000
DTSTAMP:20260424T165503
CREATED:20220629T190200Z
LAST-MODIFIED:20220629T190200Z
UID:3143-1659286800-1659304800@sonsoftheflag.org
SUMMARY:Legacy of E.H. Taylor Summer Series
DESCRIPTION:KEY EVENT DETAILS  \nJuly 31\, 2020\nBrood and Barley\n411 Main Street\nLittle Rock\, Arkansas 72114 \nJoin us Sunday\, July  31 for the E H Taylor Summer Series supporting Sons Of The Flag: an organization dedicated to revolutionizing burn care. Doors open at 5:00 PM; event begins promptly at 6:00PM. The bourbon lineup will feature four of the Colonel’s  sought-after whiskeys:  Single Barrel\, Rye\, Straight from the Barrel\, and the allusive Four Grain. A five-course pairing menu created by Chef Brayan and his staff will be served. A Live Auction will be held at the end of the evening. Musical Guest: Smokey. ONLY 20 BOURBON AND 10 WINE/BEER SPOTS AVAILABLE!  
URL:https://sonsoftheflag.org/sotf-event/legacy-of-e-h-taylor-summer-series/
LOCATION:Brood and Barley\, 411 Main Street\, Little Rock\, AR\, 72114\, United States
ATTACH;FMTTYPE=image/png:https://sonsoftheflag.org/file/2022/06/SM-IMAGE.png
ORGANIZER;CN="Sons of the Flag":MAILTO:johnnie@sonsoftheflag.org
END:VEVENT
END:VCALENDAR