BEGIN:VCALENDAR
VERSION:2.0
PRODID:-//Beyond the Burn Foundation - ECPv6.12.0.1//NONSGML v1.0//EN
CALSCALE:GREGORIAN
METHOD:PUBLISH
X-WR-CALNAME:Beyond the Burn Foundation
X-ORIGINAL-URL:https://sonsoftheflag.org
X-WR-CALDESC:Events for Beyond the Burn Foundation
REFRESH-INTERVAL;VALUE=DURATION:PT1H
X-Robots-Tag:noindex
X-PUBLISHED-TTL:PT1H
BEGIN:VTIMEZONE
TZID:UTC
BEGIN:STANDARD
TZOFFSETFROM:+0000
TZOFFSETTO:+0000
TZNAME:UTC
DTSTART:20220101T000000
END:STANDARD
END:VTIMEZONE
BEGIN:VEVENT
DTSTART;TZID=UTC:20220630T180000
DTEND;TZID=UTC:20220630T220000
DTSTAMP:20260424T181744
CREATED:20220629T190604Z
LAST-MODIFIED:20220629T190604Z
UID:3147-1656612000-1656626400@sonsoftheflag.org
SUMMARY:Blanton's At Cypress Social
DESCRIPTION:KEY EVENT DETAILS  \nJune 30\, 2022\nCypress Social\n7103 Cock of the Walk Lane\nNorth Little Rock\, Arkansas 72113 \nJoin us Thursday\, June 30 doors open at 6:00 PM for the Blanton’s at Cypress Social event supporting Sons of the Flag: Revolutionizing Burn Care. The event will feature five of Blanton’s hard to get bourbons: Red\, Black\, Gold\, Straight from the Barrell and an extremely rare Special Reserve European Bottle of Blanton’s. A special four course pairing menu\, prepared by Chef Aaron will be served. We will also hold a Live Auction with various items. ONLY 37 SPOTS AVAILABLE! \n 
URL:https://sonsoftheflag.org/sotf-event/blanton-at-cypress-social/
LOCATION:Cypress Social\, 7103 Cock of the Walk Lane\, Little Rock\, AR\, 72113\, United States
ATTACH;FMTTYPE=image/jpeg:https://sonsoftheflag.org/file/2022/06/cypress-social.jpg
ORGANIZER;CN="Sons of the Flag":MAILTO:johnnie@sonsoftheflag.org
END:VEVENT
END:VCALENDAR