BEGIN:VCALENDAR
VERSION:2.0
PRODID:-//Beyond the Burn Foundation - ECPv6.12.0.1//NONSGML v1.0//EN
CALSCALE:GREGORIAN
METHOD:PUBLISH
X-WR-CALNAME:Beyond the Burn Foundation
X-ORIGINAL-URL:https://sonsoftheflag.org
X-WR-CALDESC:Events for Beyond the Burn Foundation
REFRESH-INTERVAL;VALUE=DURATION:PT1H
X-Robots-Tag:noindex
X-PUBLISHED-TTL:PT1H
BEGIN:VTIMEZONE
TZID:UTC
BEGIN:STANDARD
TZOFFSETFROM:+0000
TZOFFSETTO:+0000
TZNAME:UTC
DTSTART:20250101T000000
END:STANDARD
END:VTIMEZONE
BEGIN:VEVENT
DTSTART;TZID=UTC:20251011T170000
DTEND;TZID=UTC:20251011T233000
DTSTAMP:20260420T112416
CREATED:20250703T161724Z
LAST-MODIFIED:20250917T191814Z
UID:3400-1760202000-1760225400@sonsoftheflag.org
SUMMARY:Country for Country
DESCRIPTION:Country for CountryCountry for Country is back! \nJoin us on October 11\, 2025\, at 3R’s Ranch in Prosper\, Texas\, for our Annual Country Music Program benefiting Sons of the Flag 501c3 and their mission to go Beyond the Burn for Survivors nationwide! \nHEADLINER \nUncle Kracker !\nSUPPORTING ARTISTS \nKrysta McCade \nGrades of Absolute Truth \nEvent Includes: \n\nOPEN BAR (Supplied by Ben E. Keith)\nFirst 200 free custom Cowboy Hat (Sponsored by Texas Counter Fitters)\nDon Graves 100 year old WWII Vet singing National anthem\nTexas De Brazil Buffet\nJoe Everson Art Performance\nCustom Boot Measuring (Available through Justin Brands Boots)\nSilent/Live Auction\n\nCapture it all in our Photo Booth \n\nDoors Open at 5:00pm\nDinner Buffet from 5:15 – 6:30pm\nProgram/Auction/Show Begins at 6:30pm\n\nFeaturing Local Country Artists from across North Texas! \nGather your family and friends for a night of Live Music\, Community\, and a cause worth standing for. Your presence and contributions advance the future of burn care and provide direct survivor support for those currently in recovery.
URL:https://sonsoftheflag.org/sotf-event/country-for-country/
LOCATION:Wilson’s Barn\, 1695 Coit Road\, Prosper\, TX\, 75078\, United States
ATTACH;FMTTYPE=image/jpeg:https://sonsoftheflag.org/file/2025/07/c4c.jpg
ORGANIZER;CN="Sons of the Flag":MAILTO:johnnie@sonsoftheflag.org
END:VEVENT
END:VCALENDAR