BEGIN:VCALENDAR
VERSION:2.0
PRODID:-//Beyond the Burn Foundation - ECPv6.12.0.1//NONSGML v1.0//EN
CALSCALE:GREGORIAN
METHOD:PUBLISH
X-ORIGINAL-URL:https://sonsoftheflag.org
X-WR-CALDESC:Events for Beyond the Burn Foundation
REFRESH-INTERVAL;VALUE=DURATION:PT1H
X-Robots-Tag:noindex
X-PUBLISHED-TTL:PT1H
BEGIN:VTIMEZONE
TZID:UTC
BEGIN:STANDARD
TZOFFSETFROM:+0000
TZOFFSETTO:+0000
TZNAME:UTC
DTSTART:20240101T000000
END:STANDARD
END:VTIMEZONE
BEGIN:VEVENT
DTSTART;TZID=UTC:20240413T190000
DTEND;TZID=UTC:20240413T220000
DTSTAMP:20260421T151013
CREATED:20240227T000439Z
LAST-MODIFIED:20240227T000439Z
UID:3210-1713034800-1713045600@sonsoftheflag.org
SUMMARY:Sons of the Flag Night
DESCRIPTION:Join us on Saturday\, April 13th for Sons of the Flag Night at Riders Field! Sons of the Flag will be the featured foundation of the night with $5 from each ticket purchased through the link  below benefiting Sons of the Flag! \nhttps://fevo-enterprise.com/event/Sonsflag
URL:https://sonsoftheflag.org/sotf-event/sons-of-the-flag-night/
ATTACH;FMTTYPE=image/jpeg:https://sonsoftheflag.org/file/2024/02/FON_SOTF-Night.jpg
END:VEVENT
END:VCALENDAR