BEGIN:VCALENDAR
VERSION:2.0
PRODID:-//Beyond the Burn Foundation - ECPv6.12.0.1//NONSGML v1.0//EN
CALSCALE:GREGORIAN
METHOD:PUBLISH
X-WR-CALNAME:Beyond the Burn Foundation
X-ORIGINAL-URL:https://sonsoftheflag.org
X-WR-CALDESC:Events for Beyond the Burn Foundation
REFRESH-INTERVAL;VALUE=DURATION:PT1H
X-Robots-Tag:noindex
X-PUBLISHED-TTL:PT1H
BEGIN:VTIMEZONE
TZID:UTC
BEGIN:STANDARD
TZOFFSETFROM:+0000
TZOFFSETTO:+0000
TZNAME:UTC
DTSTART:20230101T000000
END:STANDARD
END:VTIMEZONE
BEGIN:VEVENT
DTSTART;TZID=UTC:20230918T080000
DTEND;TZID=UTC:20230918T170000
DTSTAMP:20260422T010151
CREATED:20230802T191439Z
LAST-MODIFIED:20230802T191439Z
UID:3194-1695024000-1695056400@sonsoftheflag.org
SUMMARY:Tee It Up For The Troops 2023
DESCRIPTION:Please join us for the 3rd Annual Golf Event\nat Brookhaven Country Club \nDear Fellow Patriot:\nWe cordially invite you to attend the 3rd annual Tee It Up for the Troops golf fundraising event presented\nby Perimeter Global Logistics on Monday\, September 18th at Brookhaven Country Club\, Farmers\nBranch\, TX. \nThis event will honor all U.S. military service members and will benefit those who have been wounded and\ninjured in the defense of our freedom. Your participation in this fundraising event will help change the lives\nof those who selflessly serve(d) to protect our liberties. \nProceeds will be used to reunite combat veterans helping them transition from the battlefront to the home\nfront; provide opportunities for veterans to achieve successful civilian careers; and revolutionize burn care\nand quality of life for veterans who are burn victims through the organizations shown below. \nFor further information\, please contact: Andrew Maley • 713-870-4246\nnorthtexas@teeitupforthetroops.org
URL:https://sonsoftheflag.org/sotf-event/tee-it-up-for-the-troops-2023/
LOCATION:Brookhaven Country Club\, 3333 Golfing Green Dr.\, Farmers Branch\, TX\, 75234\, United States
ATTACH;FMTTYPE=image/png:https://sonsoftheflag.org/file/2023/08/website-featured-image.png
ORGANIZER;CN="Sons of the Flag":MAILTO:johnnie@sonsoftheflag.org
END:VEVENT
END:VCALENDAR